BEGIN:VCALENDAR
VERSION:2.0
PRODID:-//msasoco.org//NONSGML kigkonsult.se iCalcreator 2.30.10//
CALSCALE:GREGORIAN
METHOD:PUBLISH
UID:887708de-d8ad-4562-a78b-e39ef3af95bd
X-WR-CALDESC:Feeling spicey? Join us at the Hu Hot in Cimarron Hills\, near
  the intersection of Powers and Constitution. Life is short\, so let's enj
 oy it with friends and great food! We look forward to seeing you there. Ch
 eers!
X-WR-RELCALID:eb982933a86a25df5bec7d8bf4c85e47
X-WR-TIMEZONE:America/Denver
BEGIN:VTIMEZONE
TZID:America/Denver
BEGIN:STANDARD
TZNAME:MST
DTSTART:20251102T020000
TZOFFSETFROM:-0600
TZOFFSETTO:-0700
RDATE:20261101T020000
END:STANDARD
BEGIN:DAYLIGHT
TZNAME:MDT
DTSTART:20260308T020000
TZOFFSETFROM:-0700
TZOFFSETTO:-0600
RDATE:20270314T020000
END:DAYLIGHT
END:VTIMEZONE
BEGIN:VEVENT
UID:9a7a83e5-1257-4aca-82f2-07a4feeb818a
DTSTAMP:20260423T143851Z
DESCRIPTION:Feeling spicey? Join us at the Hu Hot in Cimarron Hills\, near 
 the intersection of Powers and Constitution. Life is short\, so let's enjo
 y it with friends and great food! We look forward to seeing you there. Che
 ers!
DTSTART;TZID=America/Denver:20260402T110000
DTEND;TZID=America/Denver:20260402T120000
LOCATION:Hu Hot Mongolian Grill\, 5843 Constitution\, Colorado Springs\, CO
  80915 US
SUMMARY:Lunch On The Town at Hu Hot
END:VEVENT
END:VCALENDAR
