BEGIN:VCALENDAR
VERSION:2.0
PRODID:-//msasoco.org//NONSGML kigkonsult.se iCalcreator 2.30.10//
CALSCALE:GREGORIAN
METHOD:PUBLISH
UID:5b00a4d4-4692-41df-bcbc-dbd88747b088
X-WR-CALDESC:SAVE THE DATE! We will be having a FUN-draiser at Brush Crazy!
  Arrive between 12:00pm and 3:00pm\, then stay as long as you like (the st
 udio closes at 8:00pm). Choose from ceramics\, glass\, mosaic\, poured art
 \, wood\, metal or canvas in a variety of sizes! This event is always a hu
 ge hit\, so mark your calendar today!
X-WR-RELCALID:7645174c20304871334c2b1694036661
X-WR-TIMEZONE:America/Denver
BEGIN:VTIMEZONE
TZID:America/Denver
BEGIN:STANDARD
TZNAME:MST
DTSTART:20251102T020000
TZOFFSETFROM:-0600
TZOFFSETTO:-0700
RDATE:20261101T020000
RDATE:20271107T020000
END:STANDARD
BEGIN:DAYLIGHT
TZNAME:MDT
DTSTART:20260308T020000
TZOFFSETFROM:-0700
TZOFFSETTO:-0600
RDATE:20270314T020000
END:DAYLIGHT
END:VTIMEZONE
BEGIN:VEVENT
UID:9e2307a1-bfab-47c1-b6aa-583ce0b343b5
DTSTAMP:20260423T165121Z
DESCRIPTION:SAVE THE DATE! We will be having a FUN-draiser at Brush Crazy! 
 Arrive between 12:00pm and 3:00pm\, then stay as long as you like (the stu
 dio closes at 8:00pm). Choose from ceramics\, glass\, mosaic\, poured art\
 , wood\, metal or canvas in a variety of sizes! This event is always a hug
 e hit\, so mark your calendar today!
DTSTART;TZID=America/Denver:20260614T120000
DTEND;TZID=America/Denver:20260614T150000
LOCATION:Brush Crazy Painting Studio\, Address 4416 Austin Bluffs Pkwy\, Co
 lorado Springs\, CO 80918 US
SUMMARY:SAVE THIS DATE! Brush Crazy Fundraiser
END:VEVENT
END:VCALENDAR
