BEGIN:VCALENDAR
VERSION:2.0
PRODID:-//msasoco.org//NONSGML kigkonsult.se iCalcreator 2.30.10//
CALSCALE:GREGORIAN
METHOD:PUBLISH
UID:5c037a94-3f86-444e-a42d-7273a1b75f36
X-WR-CALDESC:Because our members requested it\, we've created a group that 
 everyone can attend together. Our Social Group meets every Thursday\, at 1
 1:00am. Make it a regular part of your weekly routine!
X-WR-RELCALID:9b3ad63aa5b3bf574b5704e13ad4151b
X-WR-TIMEZONE:America/Denver
BEGIN:VTIMEZONE
TZID:America/Denver
BEGIN:STANDARD
TZNAME:MST
DTSTART:20251102T020000
TZOFFSETFROM:-0600
TZOFFSETTO:-0700
RDATE:20261101T020000
RDATE:20271107T020000
END:STANDARD
BEGIN:DAYLIGHT
TZNAME:MDT
DTSTART:20260308T020000
TZOFFSETFROM:-0700
TZOFFSETTO:-0600
RDATE:20270314T020000
END:DAYLIGHT
END:VTIMEZONE
BEGIN:VEVENT
UID:71ea6ced-de60-4572-82a9-2267d5c77d6e
DTSTAMP:20260423T180804Z
DESCRIPTION:Because our members requested it\, we've created a group that e
 veryone can attend together. Our Social Group meets every Thursday\, at 11
 :00am. Make it a regular part of your weekly routine!
DTSTART;TZID=America/Denver:20260730T110000
DTEND;TZID=America/Denver:20260730T120000
LOCATION:7011 Campus Drive\, Colorado Springs\, AL 80920 US
SUMMARY:Mixed Social Group
END:VEVENT
END:VCALENDAR
