BEGIN:VCALENDAR
VERSION:2.0
PRODID:-//msasoco.org//NONSGML kigkonsult.se iCalcreator 2.30.10//
CALSCALE:GREGORIAN
METHOD:PUBLISH
UID:5f53e7e5-55eb-479e-8e71-09da044d3dcb
X-WR-CALDESC:A place where girls can be girls in a supportive environment b
 ased on friendship. We understand\, so don't be shy! This is a hybrid grou
 p that meets concurrently in person at the MSA offices and online via Zoom
 . To receive a Zoom link\, contact us at 719-633-4603.
X-WR-RELCALID:4a796b76ee68c8f97a26a1191d6d5bd2
X-WR-TIMEZONE:America/Denver
BEGIN:VTIMEZONE
TZID:America/Denver
BEGIN:STANDARD
TZNAME:MST
DTSTART:20251102T020000
TZOFFSETFROM:-0600
TZOFFSETTO:-0700
RDATE:20261101T020000
RDATE:20271107T020000
END:STANDARD
BEGIN:DAYLIGHT
TZNAME:MDT
DTSTART:20260308T020000
TZOFFSETFROM:-0700
TZOFFSETTO:-0600
RDATE:20270314T020000
RDATE:20280312T020000
END:DAYLIGHT
END:VTIMEZONE
BEGIN:VEVENT
UID:a8dea5d7-39f1-43ba-8783-e21aad748549
DTSTAMP:20260423T204642Z
DESCRIPTION:A place where girls can be girls in a supportive environment ba
 sed on friendship. We understand\, so don't be shy! This is a hybrid group
  that meets concurrently in person at the MSA offices and online via Zoom.
  To receive a Zoom link\, contact us at 719-633-4603.
DTSTART;TZID=America/Denver:20260922T110000
DTEND;TZID=America/Denver:20260922T120000
LOCATION:Held simultaneously in-person and over Zoom.
SUMMARY:Women’s Support
END:VEVENT
END:VCALENDAR
