BEGIN:VCALENDAR
VERSION:2.0
PRODID:-//msasoco.org//NONSGML kigkonsult.se iCalcreator 2.30.10//
CALSCALE:GREGORIAN
METHOD:PUBLISH
UID:5ecf5259-e28a-40cc-a9a8-8850573b04b1
X-WR-CALDESC:Join us in Pueblo\, on the first and third Thursdays of the mo
 nth\, at 11:00am for a fresh dose of support and encouragement! Facilitate
 d by Kathy Bracket\, this group is Puebloan-real\, addressing issues that 
 face those of us in Pueblo. If you will be joining us over Zoom\, please c
 ontact the office so we can send you a link.
X-WR-RELCALID:c236e98dcac8b316306111a3ff0103c7
X-WR-TIMEZONE:America/Denver
BEGIN:VTIMEZONE
TZID:America/Denver
BEGIN:STANDARD
TZNAME:MST
DTSTART:20251102T020000
TZOFFSETFROM:-0600
TZOFFSETTO:-0700
RDATE:20261101T020000
RDATE:20271107T020000
END:STANDARD
BEGIN:DAYLIGHT
TZNAME:MDT
DTSTART:20260308T020000
TZOFFSETFROM:-0700
TZOFFSETTO:-0600
RDATE:20270314T020000
RDATE:20280312T020000
END:DAYLIGHT
END:VTIMEZONE
BEGIN:VEVENT
UID:cca69fbf-9f90-4fa9-b5d7-4a6e638a9a32
DTSTAMP:20260423T220139Z
DESCRIPTION:Join us in Pueblo\, on the first and third Thursdays of the mon
 th\, at 11:00am for a fresh dose of support and encouragement! Facilitated
  by Kathy Bracket\, this group is Puebloan-real\, addressing issues that f
 ace those of us in Pueblo. If you will be joining us over Zoom\, please co
 ntact the office so we can send you a link.
DTSTART;TZID=America/Denver:20261015T110000
DTEND;TZID=America/Denver:20261015T120000
LOCATION:Center Toward Self Reliance\, 901 West 8th Street\, Pueblo\, CO 81
 003 US
SUMMARY:Pueblo Support Group
END:VEVENT
END:VCALENDAR
