BEGIN:VCALENDAR
VERSION:2.0
PRODID:-//msasoco.org//NONSGML kigkonsult.se iCalcreator 2.30.10//
CALSCALE:GREGORIAN
METHOD:PUBLISH
UID:14ab6ae9-c2b1-43e5-b39e-249c5e63ca55
X-WR-CALDESC:Because our members requested it\, we've created a group that 
 everyone can attend together. Our Social Group meets every Thursday\, at 1
 1:00am. Make it a regular part of your weekly routine!
X-WR-RELCALID:09c71d6b77ef27abe804f29d93278964
X-WR-TIMEZONE:America/Denver
BEGIN:VTIMEZONE
TZID:America/Denver
BEGIN:STANDARD
TZNAME:MST
DTSTART:20251102T020000
TZOFFSETFROM:-0600
TZOFFSETTO:-0700
RDATE:20261101T020000
RDATE:20271107T020000
END:STANDARD
BEGIN:DAYLIGHT
TZNAME:MDT
DTSTART:20260308T020000
TZOFFSETFROM:-0700
TZOFFSETTO:-0600
RDATE:20270314T020000
RDATE:20280312T020000
END:DAYLIGHT
END:VTIMEZONE
BEGIN:VEVENT
UID:b1115498-c2c0-42d1-a621-f04f7f1b43ac
DTSTAMP:20260423T221104Z
DESCRIPTION:Because our members requested it\, we've created a group that e
 veryone can attend together. Our Social Group meets every Thursday\, at 11
 :00am. Make it a regular part of your weekly routine!
DTSTART;TZID=America/Denver:20261029T110000
DTEND;TZID=America/Denver:20261029T120000
LOCATION:7011 Campus Drive\, Colorado Springs\, AL 80920 US
SUMMARY:Mixed Social Group
END:VEVENT
END:VCALENDAR
