BEGIN:VCALENDAR
VERSION:2.0
PRODID:-//msasoco.org//NONSGML kigkonsult.se iCalcreator 2.30.10//
CALSCALE:GREGORIAN
METHOD:PUBLISH
UID:6d4b2082-edfe-4b72-af8c-397f7e111c18
X-WR-CALDESC:A place where girls can be girls in a supportive environment b
 ased on friendship. We understand\, so don't be shy! This is a hybrid grou
 p that meets concurrently in person at the MSA offices and online via Zoom
 . To receive a Zoom link\, contact us at 719-633-4603.
X-WR-RELCALID:da7b099ea5b22a9309a5f66e95cba6a2
X-WR-TIMEZONE:America/Denver
BEGIN:VTIMEZONE
TZID:America/Denver
BEGIN:STANDARD
TZNAME:MST
DTSTART:20261101T020000
TZOFFSETFROM:-0600
TZOFFSETTO:-0700
RDATE:20271107T020000
END:STANDARD
BEGIN:DAYLIGHT
TZNAME:MDT
DTSTART:20260308T020000
TZOFFSETFROM:-0700
TZOFFSETTO:-0600
RDATE:20270314T020000
RDATE:20280312T020000
END:DAYLIGHT
END:VTIMEZONE
BEGIN:VEVENT
UID:8a8259a7-1804-407e-82c1-ac35f349637c
DTSTAMP:20260424T031552Z
DESCRIPTION:A place where girls can be girls in a supportive environment ba
 sed on friendship. We understand\, so don't be shy! This is a hybrid group
  that meets concurrently in person at the MSA offices and online via Zoom.
  To receive a Zoom link\, contact us at 719-633-4603.
DTSTART;TZID=America/Denver:20270209T110000
DTEND;TZID=America/Denver:20270209T120000
LOCATION:Held simultaneously in-person and over Zoom.
SUMMARY:Women’s Support
END:VEVENT
END:VCALENDAR
