BEGIN:VCALENDAR
VERSION:2.0
PRODID:-//msasoco.org//NONSGML kigkonsult.se iCalcreator 2.30.10//
CALSCALE:GREGORIAN
METHOD:PUBLISH
UID:304ae8d6-5430-4416-97e5-fba92bf0164f
X-WR-CALDESC:Join us in Pueblo\, on the first and third Thursdays of the mo
 nth\, at 11:00am for a fresh dose of support and encouragement! Facilitate
 d by Kathy Bracket\, this group is Puebloan-real\, addressing issues that 
 face those of us in Pueblo. If you will be joining us over Zoom\, please c
 ontact the office so we can send you a link.
X-WR-RELCALID:9e2425997a2e98539385ca99f9028afe
X-WR-TIMEZONE:America/Denver
BEGIN:VTIMEZONE
TZID:America/Denver
BEGIN:STANDARD
TZNAME:MST
DTSTART:20261101T020000
TZOFFSETFROM:-0600
TZOFFSETTO:-0700
RDATE:20271107T020000
END:STANDARD
BEGIN:DAYLIGHT
TZNAME:MDT
DTSTART:20270314T020000
TZOFFSETFROM:-0700
TZOFFSETTO:-0600
RDATE:20280312T020000
END:DAYLIGHT
END:VTIMEZONE
BEGIN:VEVENT
UID:c8a16140-cf67-4738-9aae-e647be2f5c9f
DTSTAMP:20260424T054951Z
DESCRIPTION:Join us in Pueblo\, on the first and third Thursdays of the mon
 th\, at 11:00am for a fresh dose of support and encouragement! Facilitated
  by Kathy Bracket\, this group is Puebloan-real\, addressing issues that f
 ace those of us in Pueblo. If you will be joining us over Zoom\, please co
 ntact the office so we can send you a link.
DTSTART;TZID=America/Denver:20270401T110000
DTEND;TZID=America/Denver:20270401T120000
LOCATION:Center Toward Self Reliance\, 901 West 8th Street\, Pueblo\, CO 81
 003 US
SUMMARY:Pueblo Support Group
END:VEVENT
END:VCALENDAR
